BEGIN:VCALENDAR
VERSION:2.0
PRODID:-//wp-events-plugin.com//7.2.3.1//EN
BEGIN:VEVENT
UID:23@vocalgroupbasta.nl
DTSTART;TZID=Europe/Amsterdam:20250602T193000
DTEND;TZID=Europe/Amsterdam:20250602T213000
DTSTAMP:20250528T120504Z
URL:https://vocalgroupbasta.nl/events/vocal-coach-marcel-swerissen/
SUMMARY:Vocal Coach Marcel Swerissen
DESCRIPTION:
CATEGORIES:Agenda intern
LOCATION:Parochiecentrum\, Kwakerspad 4\, Enkhuizen\, Nederland
X-APPLE-STRUCTURED-LOCATION;VALUE=URI;X-ADDRESS=Kwakerspad 4\, Enkhuizen\, 
 Nederland;X-APPLE-RADIUS=100;X-TITLE=Parochiecentrum:geo:0,0
END:VEVENT
BEGIN:VTIMEZONE
TZID:Europe/Amsterdam
X-LIC-LOCATION:Europe/Amsterdam
BEGIN:DAYLIGHT
DTSTART:20250330T030000
TZOFFSETFROM:+0100
TZOFFSETTO:+0200
TZNAME:CEST
END:DAYLIGHT
END:VTIMEZONE
END:VCALENDAR