BEGIN:VCALENDAR
VERSION:2.0
PRODID:-//wp-events-plugin.com//7.2.3.1//EN
BEGIN:VEVENT
UID:30@vocalgroupbasta.nl
DTSTART:20260119T193000Z
DTEND:20260119T213000Z
DTSTAMP:20260103T215045Z
URL:https://vocalgroupbasta.nl/events/open-repetitie/
SUMMARY:Open repetitie
DESCRIPTION:Open repetitie voor nieuwe leden
CATEGORIES:Agenda extern,Agenda intern
LOCATION:Kwakerspad 3\, Enkhuizen\, Kwakerspad 3\, Enkhuizen\, Nederland
X-APPLE-STRUCTURED-LOCATION;VALUE=URI;X-ADDRESS=Kwakerspad 3\, Enkhuizen\, 
 Nederland;X-APPLE-RADIUS=100;X-TITLE=Kwakerspad 3\, Enkhuizen:geo:0,0
END:VEVENT
END:VCALENDAR