BEGIN:VCALENDAR
VERSION:2.0
PRODID:-//wp-events-plugin.com//7.2.3.1//EN
BEGIN:VEVENT
UID:24@vocalgroupbasta.nl
DTSTART:20240609T130000Z
DTEND:20240609T140000Z
DTSTAMP:20250530T121733Z
URL:https://vocalgroupbasta.nl/events/muziek-aan-het-water/
SUMMARY:Muziek aan het Water
DESCRIPTION:
CATEGORIES:Agenda extern,Agenda intern
LOCATION:Jachthaven Andijk\, Nieuwe Haven 1\, Andijk\, Nauru
X-APPLE-STRUCTURED-LOCATION;VALUE=URI;X-ADDRESS=Nieuwe Haven 1\, Andijk\, N
 auru;X-APPLE-RADIUS=100;X-TITLE=Jachthaven Andijk:geo:0,0
END:VEVENT
END:VCALENDAR