BEGIN:VCALENDAR
VERSION:2.0
PRODID:-//wp-events-plugin.com//7.2.3.1//EN
BEGIN:VEVENT
UID:29@vocalgroupbasta.nl
DTSTART:20260327T190000Z
DTEND:20260329T120000Z
DTSTAMP:20260225T170407Z
URL:https://vocalgroupbasta.nl/events/koorweekend-2026/
SUMMARY:Koorweekend 2026
DESCRIPTION:Ben jij er ook bij?
CATEGORIES:Agenda intern
LOCATION:Koorweekend Vierhouten\, \, 
X-APPLE-STRUCTURED-LOCATION;VALUE=URI;X-ADDRESS=\, ;X-APPLE-RADIUS=100;X-TI
 TLE=Koorweekend Vierhouten:geo:0,0
END:VEVENT
END:VCALENDAR