BEGIN:VCALENDAR
VERSION:2.0
PRODID:-//wp-events-plugin.com//7.2.3.1//EN
BEGIN:VEVENT
UID:31@vocalgroupbasta.nl
DTSTART:20261003T110000Z
DTEND:20261003T180000Z
DTSTAMP:20260225T171102Z
URL:https://vocalgroupbasta.nl/events/koopkoren-festival-enkhuizen-2026/
SUMMARY:Koopkoren festival Enkhuizen 2026
DESCRIPTION:
CATEGORIES:Agenda extern,Agenda intern
LOCATION:De locatie en tijden worden t.z.t. bekend gemaakt. Zie voor meer i
 nformatie: http://www.koopkorenfestival.nl\, \, 
X-APPLE-STRUCTURED-LOCATION;VALUE=URI;X-ADDRESS=\, ;X-APPLE-RADIUS=100;X-TI
 TLE=De locatie en tijden worden t.z.t. bekend gemaakt. Zie voor meer infor
 matie: http://www.koopkorenfestival.nl:geo:0,0
END:VEVENT
END:VCALENDAR