BEGIN:VCALENDAR
VERSION:2.0
PRODID:-//wp-events-plugin.com//7.2.3.1//EN
BEGIN:VEVENT
UID:27@vocalgroupbasta.nl
DTSTART;TZID=Europe/Amsterdam:20251004T130000
DTEND;TZID=Europe/Amsterdam:20251004T160000
DTSTAMP:20250903T144800Z
URL:https://vocalgroupbasta.nl/events/koopkoren-festival-enkhuizen-2/
SUMMARY:Koopkoren Festival Enkhuizen
DESCRIPTION:Wij zingen om 13:00 uur op de hoek Westerstraat/Peperstraat en 
 om 15:00 uur in de Zuiderkerk
CATEGORIES:Agenda extern
LOCATION:Enkhuizen\, Nog niet bekend\, Enkhuizen\, Nederland
X-APPLE-STRUCTURED-LOCATION;VALUE=URI;X-ADDRESS=Nog niet bekend\, Enkhuizen
 \, Nederland;X-APPLE-RADIUS=100;X-TITLE=Enkhuizen:geo:0,0
END:VEVENT
BEGIN:VTIMEZONE
TZID:Europe/Amsterdam
X-LIC-LOCATION:Europe/Amsterdam
BEGIN:DAYLIGHT
DTSTART:20250330T030000
TZOFFSETFROM:+0100
TZOFFSETTO:+0200
TZNAME:CEST
END:DAYLIGHT
END:VTIMEZONE
END:VCALENDAR