BEGIN:VCALENDAR
VERSION:2.0
PRODID:-//wp-events-plugin.com//7.2.3.1//EN
BEGIN:VEVENT
UID:33@vocalgroupbasta.nl
DTSTART:20270320T200000Z
DTEND:20270321T200000Z
DTSTAMP:20260225T171949Z
URL:https://vocalgroupbasta.nl/events/concert-basta-live-2027/
SUMMARY:Concert BASTA LIVE! 2027
DESCRIPTION:Nadere informatie volgt.
CATEGORIES:Agenda extern,Agenda intern
END:VEVENT
END:VCALENDAR