BEGIN:VCALENDAR
VERSION:2.0
PRODID:-//wp-events-plugin.com//7.2.3.1//EN
BEGIN:VEVENT
UID:32@vocalgroupbasta.nl
DTSTART:20260316T203000Z
DTEND:20260316T223000Z
DTSTAMP:20260225T171343Z
URL:https://vocalgroupbasta.nl/events/algemene-ledenvergadering/
SUMMARY:Algemene ledenvergadering
DESCRIPTION:
CATEGORIES:Agenda intern
LOCATION:Kwakerspad 3\, Enkhuizen\, Kwakerspad 3\, Enkhuizen\, Nederland
X-APPLE-STRUCTURED-LOCATION;VALUE=URI;X-ADDRESS=Kwakerspad 3\, Enkhuizen\, 
 Nederland;X-APPLE-RADIUS=100;X-TITLE=Kwakerspad 3\, Enkhuizen:geo:0,0
END:VEVENT
END:VCALENDAR